BEGIN:VCALENDAR
VERSION:2.0
PRODID:-//Focales
CALSCALE:GREGORIAN
METHOD:PUBLISH
X-WR-CALNAME:Focales
X-ORIGINAL-URL:https://focales.org/concours-de-courts-metrages-danimation-darte/
X-WR-CALDESC:CONCOURS DE COURTS MÉTRAGES D&rsquo;ANIMATION D&rsquo;ARTE
BEGIN:VEVENT
DTSTART:20231016T000000
DTEND:20240506T000000
SUMMARY:CONCOURS DE COURTS MÉTRAGES D&rsquo;ANIMATION D&rsquo;ARTE
DESCRIPTION:
LOCATION:
END:VEVENT
END:VCALENDAR
