BEGIN:VCALENDAR
VERSION:2.0
PRODID:-//Focales
CALSCALE:GREGORIAN
METHOD:PUBLISH
X-WR-CALNAME:Focales
X-ORIGINAL-URL:https://focales.org/festival-traces-de-vies-33e-edition/
X-WR-CALDESC:FESTIVAL TRACES DE VIES 33E ÉDITION
BEGIN:VEVENT
DTSTART:20231126T093000
DTEND:20231202T154500
SUMMARY:FESTIVAL TRACES DE VIES 33E ÉDITION
DESCRIPTION:
LOCATION:Les Amis de Traces De Vies  6, rue de la Sellette  63000 Clermont-Ferrand
END:VEVENT
END:VCALENDAR
