BEGIN:VCALENDAR
VERSION:2.0
PRODID:-//Focales
CALSCALE:GREGORIAN
METHOD:PUBLISH
X-WR-CALNAME:Focales
X-ORIGINAL-URL:https://focales.org/traqueurs-dinfox-focus-education-aux-medias-et-fake-news/
X-WR-CALDESC:TRAQUEURS D&rsquo;INFOX FOCUS ÉDUCATION AUX MÉDIAS ET FAKE NEWS
BEGIN:VEVENT
DTSTART:20231205T140000
DTEND:20231205T170000
SUMMARY:TRAQUEURS D&rsquo;INFOX FOCUS ÉDUCATION AUX MÉDIAS ET FAKE NEWS
DESCRIPTION:
LOCATION:Cinéma Chantecler d'Ugine, 45 place de Montmain, 73 400 UGINE
END:VEVENT
END:VCALENDAR
