BEGIN:VCALENDAR
VERSION:2.0
PRODID:-//Focales
CALSCALE:GREGORIAN
METHOD:PUBLISH
X-WR-CALNAME:Focales
X-ORIGINAL-URL:https://focales.org/no-lands-song-presente-par-bamchade-pourvali/
X-WR-CALDESC:NO LAND&rsquo;S SONG PRÉSENTÉ PAR BAMCHADE POURVALI
BEGIN:VEVENT
DTSTART:20231115T200000
DTEND:20231115T220000
SUMMARY:NO LAND&rsquo;S SONG PRÉSENTÉ PAR BAMCHADE POURVALI
DESCRIPTION:
LOCATION:La Jetée, 6 Place Michel-de-l'Hospital, 63058 Clermont-Ferrand
END:VEVENT
END:VCALENDAR
