BEGIN:VCALENDAR
VERSION:2.0
PRODID:-//Focales
CALSCALE:GREGORIAN
METHOD:PUBLISH
X-WR-CALNAME:Focales
X-ORIGINAL-URL:https://focales.org/la-fleur-du-mal-avec-ludovic-chavarot/
X-WR-CALDESC:LA FLEUR DU MAL AVEC LUDOVIC CHAVAROT
BEGIN:VEVENT
DTSTART:20231116T180000
DTEND:20231116T200000
SUMMARY:LA FLEUR DU MAL AVEC LUDOVIC CHAVAROT
DESCRIPTION:
LOCATION:La Jetée, 6 Place Michel-de-l'Hospital, 63058 Clermont-Ferrand
END:VEVENT
END:VCALENDAR
