BEGIN:VCALENDAR
VERSION:2.0
PRODID:-//Focales
CALSCALE:GREGORIAN
METHOD:PUBLISH
X-WR-CALNAME:Focales
X-ORIGINAL-URL:https://focales.org/le-sens-des-masses-avec-anne-sophie-emard-et-pierre-levchin/
X-WR-CALDESC:LE SENS DES MASSES AVEC ANNE SOPHIE EMARD ET PIERRE LEVCHIN
BEGIN:VEVENT
DTSTART:20231127T140000
DTEND:20231127T183000
SUMMARY:LE SENS DES MASSES AVEC ANNE SOPHIE EMARD ET PIERRE LEVCHIN
DESCRIPTION:
LOCATION:Salle du moulin de l'étang, Av. de la République, 63160 Billom
END:VEVENT
END:VCALENDAR
