BEGIN:VCALENDAR
VERSION:2.0
PRODID:-//Focales
CALSCALE:GREGORIAN
METHOD:PUBLISH
X-WR-CALNAME:Focales
X-ORIGINAL-URL:https://focales.org/la-fiancee-du-poete-avec-yolande-morceau/
X-WR-CALDESC:LA FIANCÉE DU POÈTE AVEC YOLANDE MORCEAU
BEGIN:VEVENT
DTSTART:20231122T190000
DTEND:20231122T213000
SUMMARY:LA FIANCÉE DU POÈTE AVEC YOLANDE MORCEAU
DESCRIPTION:
LOCATION:Ciné Capitole, 32 Pl. de Jaude, 63000 Clermont-Ferrand
END:VEVENT
END:VCALENDAR
