BEGIN:VCALENDAR
VERSION:2.0
PRODID:-//Focales
CALSCALE:GREGORIAN
METHOD:PUBLISH
X-WR-CALNAME:Focales
X-ORIGINAL-URL:https://focales.org/ma-france-a-moi-avec-benoit-cohen/
X-WR-CALDESC:MA FRANCE À MOI AVEC BENOIT COHEN
BEGIN:VEVENT
DTSTART:20231201T203000
DTEND:20231201T223000
SUMMARY:MA FRANCE À MOI AVEC BENOIT COHEN
DESCRIPTION:
LOCATION:Le Palace, 30 Bd de Courtais, 03100 Montluçon
END:VEVENT
END:VCALENDAR
