BEGIN:VCALENDAR
VERSION:2.0
PRODID:-//Focales
CALSCALE:GREGORIAN
METHOD:PUBLISH
X-WR-CALNAME:Focales
X-ORIGINAL-URL:https://focales.org/court-particulier-l-homme-qui-plantait-des-arbres/
X-WR-CALDESC:COURT PARTICULIER : L&rsquo;HOMME QUI PLANTAIT DES ARBRES
BEGIN:VEVENT
DTSTART:20231214T183000
DTEND:20231214T193000
SUMMARY:COURT PARTICULIER : L&rsquo;HOMME QUI PLANTAIT DES ARBRES
DESCRIPTION:
LOCATION: La Jetée, 6 Place Michel-de-l'Hospital, 63058 Clermont-Ferrand
END:VEVENT
END:VCALENDAR
