BEGIN:VCALENDAR
VERSION:2.0
PRODID:-//Focales
CALSCALE:GREGORIAN
METHOD:PUBLISH
X-WR-CALNAME:Focales
X-ORIGINAL-URL:https://focales.org/formation-video-de-49h-avec-le-cpf/
X-WR-CALDESC:FORMATION VIDÉO DE 49H AVEC LE CPF
BEGIN:VEVENT
DTSTART:20240422T000000
DTEND:20240513T000000
SUMMARY:FORMATION VIDÉO DE 49H AVEC LE CPF
DESCRIPTION:
LOCATION:Allée Évariste-Galois, Parc Technologique de La Pardieu 63000 CLERMONT-FERRAND  
END:VEVENT
END:VCALENDAR
