BEGIN:VCALENDAR
VERSION:2.0
PRODID:-//Focales
CALSCALE:GREGORIAN
METHOD:PUBLISH
X-WR-CALNAME:Focales
X-ORIGINAL-URL:https://focales.org/invitation-journee-professionnelle-cinema-et-handicaps/
X-WR-CALDESC:JOURNÉE PROFESSIONNELLE CINÉMA ET HANDICAPS
BEGIN:VEVENT
DTSTART:20240201T093000
DTEND:20240201T163000
SUMMARY:JOURNÉE PROFESSIONNELLE CINÉMA ET HANDICAPS
DESCRIPTION:
LOCATION:10, av. Ambroise Croizat, - Saint-Martin-d'Hères
END:VEVENT
END:VCALENDAR
