BEGIN:VCALENDAR
VERSION:2.0
PRODID:-//Focales
CALSCALE:GREGORIAN
METHOD:PUBLISH
X-WR-CALNAME:Focales
X-ORIGINAL-URL:https://focales.org/formation-cinema-education-populaire-avec-le-collimateur/
X-WR-CALDESC:FORMATION CINÉMA ÉDUCATION POPULAIRE AVEC LE COLLIMATEUR
BEGIN:VEVENT
DTSTART:20240115T090000
DTEND:20240307T170000
SUMMARY:FORMATION CINÉMA ÉDUCATION POPULAIRE AVEC LE COLLIMATEUR
DESCRIPTION:
LOCATION:Théâtre Municipal à l'Hôtel de ville - Place de la République, 63150 La Bourboule 
END:VEVENT
END:VCALENDAR
