BEGIN:VCALENDAR
VERSION:2.0
PRODID:-//Focales
CALSCALE:GREGORIAN
METHOD:PUBLISH
X-WR-CALNAME:Focales
X-ORIGINAL-URL:https://focales.org/court-particulier-clean-with-me-after-dark-avec-gabrielle-stemmer/
X-WR-CALDESC:COURT PARTICULIER : CLEAN WITH ME (AFTER DARK) AVEC GABRIELLE STEMMER
BEGIN:VEVENT
DTSTART:20240110T183000
DTEND:20240110T203000
SUMMARY:COURT PARTICULIER : CLEAN WITH ME (AFTER DARK) AVEC GABRIELLE STEMMER
DESCRIPTION:
LOCATION:La Jetée, 6 Place Michel-de-l'Hospital, 63058 Clermont-Ferrand
END:VEVENT
END:VCALENDAR
