BEGIN:VCALENDAR
VERSION:2.0
PRODID:-//Focales
CALSCALE:GREGORIAN
METHOD:PUBLISH
X-WR-CALNAME:Focales
X-ORIGINAL-URL:https://focales.org/ateliers-de-pratique-artistique-realiser-un-film-avec-son-smartphone/
X-WR-CALDESC:ATELIERS DE PRATIQUE ARTISTIQUE &#8211; RÉALISER UN FILM AVEC SON SMARTPHONE
BEGIN:VEVENT
DTSTART:20240226T100000
DTEND:20240228T170000
SUMMARY:ATELIERS DE PRATIQUE ARTISTIQUE &#8211; RÉALISER UN FILM AVEC SON SMARTPHONE
DESCRIPTION:
LOCATION:25 rue Étienne-Dolet, 63000 Clermont-Ferrand
END:VEVENT
END:VCALENDAR
