BEGIN:VCALENDAR
VERSION:2.0
PRODID:-//Focales
CALSCALE:GREGORIAN
METHOD:PUBLISH
X-WR-CALNAME:Focales
X-ORIGINAL-URL:https://focales.org/ateliers-de-pratique-artistique-72h-film-project/
X-WR-CALDESC:ATELIERS DE PRATIQUE ARTISTIQUE &#8211; 72H FILM PROJECT
BEGIN:VEVENT
DTSTART:20240508T100000
DTEND:20240510T170000
SUMMARY:ATELIERS DE PRATIQUE ARTISTIQUE &#8211; 72H FILM PROJECT
DESCRIPTION:
LOCATION:25 rue Étienne-Dolet, 63000 Clermont-Ferrand
END:VEVENT
END:VCALENDAR
