BEGIN:VCALENDAR
VERSION:2.0
PRODID:-//Focales
CALSCALE:GREGORIAN
METHOD:PUBLISH
X-WR-CALNAME:Focales
X-ORIGINAL-URL:https://focales.org/histoires-da-avec-marielle-issartel/
X-WR-CALDESC:HISTOIRES D&rsquo;A AVEC MARIELLE ISSARTEL
BEGIN:VEVENT
DTSTART:20240121T200000
DTEND:20240121T230000
SUMMARY:HISTOIRES D&rsquo;A AVEC MARIELLE ISSARTEL
DESCRIPTION:
LOCATION:Cinéma Le Rio, 178, rue Sous les Vignes, 63100 Clermont-Ferrand
END:VEVENT
END:VCALENDAR
