BEGIN:VCALENDAR
VERSION:2.0
PRODID:-//Focales
CALSCALE:GREGORIAN
METHOD:PUBLISH
X-WR-CALNAME:Focales
X-ORIGINAL-URL:https://focales.org/la-ferme-des-bertrand-avec-gilles-perret/
X-WR-CALDESC:LA FERME DES BERTRAND AVEC GILLES PERRET
BEGIN:VEVENT
DTSTART:20240115T200000
DTEND:20240115T230000
SUMMARY:LA FERME DES BERTRAND AVEC GILLES PERRET
DESCRIPTION:
LOCATION:Cinéma Le Rio, 178, rue Sous les Vignes, 63100 Clermont-Ferrand
END:VEVENT
END:VCALENDAR
