BEGIN:VCALENDAR
VERSION:2.0
PRODID:-//Focales
CALSCALE:GREGORIAN
METHOD:PUBLISH
X-WR-CALNAME:Focales
X-ORIGINAL-URL:https://focales.org/nous-navons-pas-peur-des-ruines-avec-yannis-youlountas/
X-WR-CALDESC:NOUS N&rsquo;AVONS PAS PEUR DES RUINES AVEC YANNIS YOULOUNTAS
BEGIN:VEVENT
DTSTART:20240129T200000
DTEND:20240129T230000
SUMMARY:NOUS N&rsquo;AVONS PAS PEUR DES RUINES AVEC YANNIS YOULOUNTAS
DESCRIPTION:
LOCATION:Cinéma Le Rio, 178, rue Sous les Vignes, 63100 Clermont-Ferrand
END:VEVENT
END:VCALENDAR
