BEGIN:VCALENDAR
VERSION:2.0
PRODID:-//Focales
CALSCALE:GREGORIAN
METHOD:PUBLISH
X-WR-CALNAME:Focales
X-ORIGINAL-URL:https://focales.org/par-la-fenetre-ou-par-la-porte-avec-jean-pierre-bloc/
X-WR-CALDESC:PAR LA FENÊTRE OU PAR LA PORTE AVEC JEAN-PIERRE BLOC
BEGIN:VEVENT
DTSTART:20240124T200000
DTEND:20240124T230000
SUMMARY:PAR LA FENÊTRE OU PAR LA PORTE AVEC JEAN-PIERRE BLOC
DESCRIPTION:
LOCATION:Cinéma Le Rio, 178, rue Sous les Vignes, 63100 Clermont-Ferrand
END:VEVENT
END:VCALENDAR
