BEGIN:VCALENDAR
VERSION:2.0
PRODID:-//Focales
CALSCALE:GREGORIAN
METHOD:PUBLISH
X-WR-CALNAME:Focales
X-ORIGINAL-URL:https://focales.org/yallah-gaza-de-roland-nurier/
X-WR-CALDESC:YALLAH GAZA DE ROLAND NURIER
BEGIN:VEVENT
DTSTART:20240111T200000
DTEND:20240111T230000
SUMMARY:YALLAH GAZA DE ROLAND NURIER
DESCRIPTION:
LOCATION:Cinéma Le Rio, 178, rue Sous les Vignes, 63100 Clermont-Ferrand
END:VEVENT
END:VCALENDAR
