BEGIN:VCALENDAR
VERSION:2.0
PRODID:-//Focales
CALSCALE:GREGORIAN
METHOD:PUBLISH
X-WR-CALNAME:Focales
X-ORIGINAL-URL:https://focales.org/daaaaaali-avec-quentin-dupieux/
X-WR-CALDESC:DAAAAAALI! AVEC QUENTIN DUPIEUX
BEGIN:VEVENT
DTSTART:20240121T160000
DTEND:20240121T180000
SUMMARY:DAAAAAALI! AVEC QUENTIN DUPIEUX
DESCRIPTION:
LOCATION:Cinéma Arcadia, 2 Bis Faubourg de la Bade, 63200 RIOM
END:VEVENT
END:VCALENDAR
