BEGIN:VCALENDAR
VERSION:2.0
PRODID:-//Focales
CALSCALE:GREGORIAN
METHOD:PUBLISH
X-WR-CALNAME:Focales
X-ORIGINAL-URL:https://focales.org/ciompi-avec-agnes-perrais/
X-WR-CALDESC:CIOMPI AVEC AGNÈS PERRAIS
BEGIN:VEVENT
DTSTART:20240111T190000
DTEND:20240111T230000
SUMMARY:CIOMPI AVEC AGNÈS PERRAIS
DESCRIPTION:
LOCATION:Le lieu dit, 10 rue Fontgiève, 63000 Clermont-Ferrand
END:VEVENT
END:VCALENDAR
