BEGIN:VCALENDAR
VERSION:2.0
PRODID:-//Focales
CALSCALE:GREGORIAN
METHOD:PUBLISH
X-WR-CALNAME:Focales
X-ORIGINAL-URL:https://focales.org/realite-virtuelle-5/
X-WR-CALDESC:RÉALITÉ VIRTUELLE
BEGIN:VEVENT
DTSTART:20240118T150000
DTEND:20240119T183000
SUMMARY:RÉALITÉ VIRTUELLE
DESCRIPTION:
LOCATION:La Jetée, 6 Place Michel-de-l'Hospital, 63058 Clermont-Ferrand
END:VEVENT
END:VCALENDAR
