BEGIN:VCALENDAR
VERSION:2.0
PRODID:-//Focales
CALSCALE:GREGORIAN
METHOD:PUBLISH
X-WR-CALNAME:Focales
X-ORIGINAL-URL:https://focales.org/atelier-cinema-sur-pellicule-avec-guichard-wiss/
X-WR-CALDESC:ATELIER CINÉMA SUR PELLICULE AVEC GUICHARD WISS
BEGIN:VEVENT
DTSTART:20240119T173000
DTEND:20240119T220000
SUMMARY:ATELIER CINÉMA SUR PELLICULE AVEC GUICHARD WISS
DESCRIPTION:
LOCATION:La Jetée, 6 Place Michel-de-l'Hospital, 63058 Clermont-Ferrand
END:VEVENT
END:VCALENDAR
