BEGIN:VCALENDAR
VERSION:2.0
PRODID:-//Focales
CALSCALE:GREGORIAN
METHOD:PUBLISH
X-WR-CALNAME:Focales
X-ORIGINAL-URL:https://focales.org/spectacle-de-lanternes-magiques-par-les-colporteurs-de-lanternes-magiques/
X-WR-CALDESC:SPECTACLE DE LANTERNES MAGIQUES PAR LES COLPORTEURS DE LANTERNES MAGIQUES
BEGIN:VEVENT
DTSTART:20240120T180000
DTEND:20240120T200000
SUMMARY:SPECTACLE DE LANTERNES MAGIQUES PAR LES COLPORTEURS DE LANTERNES MAGIQUES
DESCRIPTION:
LOCATION:Maison de l'Oradou, 88 rue de l'Oradou, 63000 Clermont-Ferrand
END:VEVENT
END:VCALENDAR
