BEGIN:VCALENDAR
VERSION:2.0
PRODID:-//Focales
CALSCALE:GREGORIAN
METHOD:PUBLISH
X-WR-CALNAME:Focales
X-ORIGINAL-URL:https://focales.org/23e-rencontres-des-acteurs-de-leducation-aux-images/
X-WR-CALDESC:23e RENCONTRES DES ACTEURS DE L&rsquo;ÉDUCATION AUX IMAGES
BEGIN:VEVENT
DTSTART:20240619T150000
DTEND:20240701T220000
SUMMARY:23e RENCONTRES DES ACTEURS DE L&rsquo;ÉDUCATION AUX IMAGES
DESCRIPTION:
LOCATION:
END:VEVENT
END:VCALENDAR
