BEGIN:VCALENDAR
VERSION:2.0
PRODID:-//Focales
CALSCALE:GREGORIAN
METHOD:PUBLISH
X-WR-CALNAME:Focales
X-ORIGINAL-URL:https://focales.org/bye_bye_tiberiad_de_lina_soualem/
X-WR-CALDESC:BYE BYE TIBÉRIADE DE LINA SOUALEM
BEGIN:VEVENT
DTSTART:20240309T200000
DTEND:20240310T193000
SUMMARY:BYE BYE TIBÉRIADE DE LINA SOUALEM
DESCRIPTION:
LOCATION:Cinéma Le Rio, 178 Rue sous les Vignes, 63100 Clermont-Ferrand / Cinéma Le Monaco, 19 Rue Conchette, 63300 Thiers
END:VEVENT
END:VCALENDAR
