BEGIN:VCALENDAR
VERSION:2.0
PRODID:-//Focales
CALSCALE:GREGORIAN
METHOD:PUBLISH
X-WR-CALNAME:Focales
X-ORIGINAL-URL:https://focales.org/rencontres-regionales-de-lexploitation-cinematographique/
X-WR-CALDESC:RENCONTRES REGIONALES DE L’EXPLOITATION CINEMATOGRAPHIQUE
BEGIN:VEVENT
DTSTART:20240404T140000
DTEND:20240404T173000
SUMMARY:RENCONTRES REGIONALES DE L’EXPLOITATION CINEMATOGRAPHIQUE
DESCRIPTION:
LOCATION:Dôme Cinéma à Albertville 135 Pl. de l'Europe, 73200 Albertville
END:VEVENT
END:VCALENDAR
