BEGIN:VCALENDAR
VERSION:2.0
PRODID:-//Focales
CALSCALE:GREGORIAN
METHOD:PUBLISH
X-WR-CALNAME:Focales
X-ORIGINAL-URL:https://focales.org/la-disgrace-de-didier-cros/
X-WR-CALDESC:LA DISGRÂCE DE DIDIER CROS
BEGIN:VEVENT
DTSTART:20240404T140000
DTEND:20240404T163000
SUMMARY:LA DISGRÂCE DE DIDIER CROS
DESCRIPTION:
LOCATION:Salle Georges Conchon, rue Léo Lagrange, 63000 Clermont-Ferrand
END:VEVENT
END:VCALENDAR
