BEGIN:VCALENDAR
VERSION:2.0
PRODID:-//Focales
CALSCALE:GREGORIAN
METHOD:PUBLISH
X-WR-CALNAME:Focales
X-ORIGINAL-URL:https://focales.org/candidatures-cite-de-tous-les-talents-parcours-cinema-2024/
X-WR-CALDESC:CANDIDATURES CITÉ DE TOUS LES TALENTS &#8211; PARCOURS CINÉMA 2024
BEGIN:VEVENT
DTSTART:20240301T000000
DTEND:20240331T000000
SUMMARY:CANDIDATURES CITÉ DE TOUS LES TALENTS &#8211; PARCOURS CINÉMA 2024
DESCRIPTION:
LOCATION:
END:VEVENT
END:VCALENDAR
