BEGIN:VCALENDAR
VERSION:2.0
PRODID:-//Focales
CALSCALE:GREGORIAN
METHOD:PUBLISH
X-WR-CALNAME:Focales
X-ORIGINAL-URL:https://focales.org/lumiere-sur-largentique-4e-edition/
X-WR-CALDESC:LUMIÈRE SUR L&rsquo;ARGENTIQUE 4ÈME ÉDITION
BEGIN:VEVENT
DTSTART:20250401T200000
DTEND:20250408T210000
SUMMARY:LUMIÈRE SUR L&rsquo;ARGENTIQUE 4ÈME ÉDITION
DESCRIPTION:
LOCATION:Cinéfac, 29 boulevard Gergovia,  63000 Clermont-Ferrand
END:VEVENT
END:VCALENDAR
