BEGIN:VCALENDAR
VERSION:2.0
PRODID:-//Focales
CALSCALE:GREGORIAN
METHOD:PUBLISH
X-WR-CALNAME:Focales
X-ORIGINAL-URL:https://focales.org/animade-in-france/
X-WR-CALDESC:ANIMADE IN FRANCE
BEGIN:VEVENT
DTSTART:20240308T200000
DTEND:20240315T230000
SUMMARY:ANIMADE IN FRANCE
DESCRIPTION:
LOCATION:Cinéma CGR Les Ambiances - 7 Rue Saint-Dominique, 63100 Clermont-Ferrand
END:VEVENT
END:VCALENDAR
