BEGIN:VCALENDAR
VERSION:2.0
PRODID:-//Focales
CALSCALE:GREGORIAN
METHOD:PUBLISH
X-WR-CALNAME:Focales
X-ORIGINAL-URL:https://focales.org/le-voyage-de-chihiro-de-hayao-miyazaki/
X-WR-CALDESC:LE VOYAGE DE CHIHIRO DE HAYAO MIYAZAKI
BEGIN:VEVENT
DTSTART:20240322T140000
DTEND:20240322T170000
SUMMARY:LE VOYAGE DE CHIHIRO DE HAYAO MIYAZAKI
DESCRIPTION:
LOCATION:Cinéma Le Rio, 178 Rue sous les Vignes, 63100 Clermont-Ferrand
END:VEVENT
END:VCALENDAR
