BEGIN:VCALENDAR
VERSION:2.0
PRODID:-//Focales
CALSCALE:GREGORIAN
METHOD:PUBLISH
X-WR-CALNAME:Focales
X-ORIGINAL-URL:https://focales.org/concours-de-la-jeune-critique-2024/
X-WR-CALDESC:CONCOURS DE LA JEUNE CRITIQUE 2024
BEGIN:VEVENT
DTSTART:20240302T090000
DTEND:20240507T235900
SUMMARY:CONCOURS DE LA JEUNE CRITIQUE 2024
DESCRIPTION:
LOCATION: La Jetée, 6 Place Michel-de-l'Hospital, 63058 Clermont-Ferrand
END:VEVENT
END:VCALENDAR
