BEGIN:VCALENDAR
VERSION:2.0
PRODID:-//Focales
CALSCALE:GREGORIAN
METHOD:PUBLISH
X-WR-CALNAME:Focales
X-ORIGINAL-URL:https://focales.org/afrique-sur-seine-de-mamadou-sarr-et-paulin/
X-WR-CALDESC:AFRIQUE SUR SEINE DE MAMADOU SARR ET PAULIN
BEGIN:VEVENT
DTSTART:20240414T200000
DTEND:20240414T230000
SUMMARY:AFRIQUE SUR SEINE DE MAMADOU SARR ET PAULIN
DESCRIPTION:
LOCATION:Cinéma Le Rio, 178 Rue sous les Vignes, 63100 Clermont-Ferrand
END:VEVENT
END:VCALENDAR
