BEGIN:VCALENDAR
VERSION:2.0
PRODID:-//Focales
CALSCALE:GREGORIAN
METHOD:PUBLISH
X-WR-CALNAME:Focales
X-ORIGINAL-URL:https://focales.org/concours-de-realisation/
X-WR-CALDESC:CONCOURS DE RÉALISATION
BEGIN:VEVENT
DTSTART:20241016T000000
DTEND:20241018T000000
SUMMARY:CONCOURS DE RÉALISATION
DESCRIPTION:
LOCATION:Château des évêques du Puy, 5 Rue du Château, 43120 Monistrol-sur-Loire
END:VEVENT
END:VCALENDAR
