BEGIN:VCALENDAR
VERSION:2.0
PRODID:-//Focales
CALSCALE:GREGORIAN
METHOD:PUBLISH
X-WR-CALNAME:Focales
X-ORIGINAL-URL:https://focales.org/les-rencontres-professionnelles-du-collimateur-2/
X-WR-CALDESC:LES RENCONTRES PROFESSIONNELLES DU COLLIMATEUR
BEGIN:VEVENT
DTSTART:20240530T090000
DTEND:20240530T153000
SUMMARY:LES RENCONTRES PROFESSIONNELLES DU COLLIMATEUR
DESCRIPTION:
LOCATION:Médiathèque René Char, Parvis Raoul Ollier, 63500 Issoire
END:VEVENT
END:VCALENDAR
