BEGIN:VCALENDAR
VERSION:2.0
PRODID:-//Focales
CALSCALE:GREGORIAN
METHOD:PUBLISH
X-WR-CALNAME:Focales
X-ORIGINAL-URL:https://focales.org/appel-a-residence-en-milieu-scolaire/
X-WR-CALDESC:APPEL À RÉSIDENCE EN MILIEU SCOLAIRE
BEGIN:VEVENT
DTSTART:20240404T000000
DTEND:20240701T000000
SUMMARY:APPEL À RÉSIDENCE EN MILIEU SCOLAIRE
DESCRIPTION:
LOCATION:Murol, 63790
END:VEVENT
END:VCALENDAR
