BEGIN:VCALENDAR
VERSION:2.0
PRODID:-//Focales
CALSCALE:GREGORIAN
METHOD:PUBLISH
X-WR-CALNAME:Focales
X-ORIGINAL-URL:https://focales.org/rencontre-professionnelle-des-cines-la-vie/
X-WR-CALDESC:RENCONTRE PROFESSIONNELLE  DES CINÉS, LA VIE !
BEGIN:VEVENT
DTSTART:20240523T090000
DTEND:20240523T150000
SUMMARY:RENCONTRE PROFESSIONNELLE  DES CINÉS, LA VIE !
DESCRIPTION:
LOCATION:Cinéma Le Fellini, 57 Esplanade Auguste et Louis Lumière, 38090 Villefontaine
END:VEVENT
END:VCALENDAR
