BEGIN:VCALENDAR
VERSION:2.0
PRODID:-//Focales
CALSCALE:GREGORIAN
METHOD:PUBLISH
X-WR-CALNAME:Focales
X-ORIGINAL-URL:https://focales.org/suc-session-3/
X-WR-CALDESC:SUC SESSION #3
BEGIN:VEVENT
DTSTART:20240502T123000
DTEND:20240502T223000
SUMMARY:SUC SESSION #3
DESCRIPTION:
LOCATION:École Nationale Supérieure d'Architecture, 85 Rue du Dr Bousquet, 63100 Clermont-Ferrand
END:VEVENT
END:VCALENDAR
