BEGIN:VCALENDAR
VERSION:2.0
PRODID:-//Focales
CALSCALE:GREGORIAN
METHOD:PUBLISH
X-WR-CALNAME:Focales
X-ORIGINAL-URL:https://focales.org/la-theorie-du-boxeur-de-nathanael-coste/
X-WR-CALDESC:LA THÉORIE DU BOXEUR DE NATHANAËL COSTE
BEGIN:VEVENT
DTSTART:20240503T200000
DTEND:20240503T230000
SUMMARY:LA THÉORIE DU BOXEUR DE NATHANAËL COSTE
DESCRIPTION:
LOCATION:Cinéma Le Rio, 178 Rue sous les Vignes, 63100 Clermont-Ferrand
END:VEVENT
END:VCALENDAR
