BEGIN:VCALENDAR
VERSION:2.0
PRODID:-//Focales
CALSCALE:GREGORIAN
METHOD:PUBLISH
X-WR-CALNAME:Focales
X-ORIGINAL-URL:https://focales.org/fleurs-du-futur-dobra-voda-de-valerie-valette/
X-WR-CALDESC:FLEURS DU FUTUR : DOBRA VODA DE VALÉRIE VALETTE
BEGIN:VEVENT
DTSTART:20240506T200000
DTEND:20240506T230000
SUMMARY:FLEURS DU FUTUR : DOBRA VODA DE VALÉRIE VALETTE
DESCRIPTION:
LOCATION:Cinéma Le Rio, 178 Rue sous les Vignes, 63100 Clermont-Ferrand
END:VEVENT
END:VCALENDAR
