BEGIN:VCALENDAR
VERSION:2.0
PRODID:-//Focales
CALSCALE:GREGORIAN
METHOD:PUBLISH
X-WR-CALNAME:Focales
X-ORIGINAL-URL:https://focales.org/nuit-de-limage-europeenne-2024/
X-WR-CALDESC:NUIT DE L&rsquo;IMAGE EUROPÉENNE 2024
BEGIN:VEVENT
DTSTART:20240525T150000
DTEND:20240525T000000
SUMMARY:NUIT DE L&rsquo;IMAGE EUROPÉENNE 2024
DESCRIPTION:
LOCATION:Jardin Lecoq, Boulevard François Mitterrand, Av. Vercingétorix, 63000 Clermont-Ferrand
END:VEVENT
END:VCALENDAR
