BEGIN:VCALENDAR
VERSION:2.0
PRODID:-//Focales
CALSCALE:GREGORIAN
METHOD:PUBLISH
X-WR-CALNAME:Focales
X-ORIGINAL-URL:https://focales.org/ecologies-a-loeuvre-les-jardins-du-tiers-paysage/
X-WR-CALDESC:ÉCOLOGIES À L&rsquo;OEUVRE : LES JARDINS DU TIERS PAYSAGE
BEGIN:VEVENT
DTSTART:20240515T213000
DTEND:20240516T000000
SUMMARY:ÉCOLOGIES À L&rsquo;OEUVRE : LES JARDINS DU TIERS PAYSAGE
DESCRIPTION:
LOCATION:École nationale d’architecture, 85 rue du Docteur Bousquet, 63100 Clermont-Ferrand
END:VEVENT
END:VCALENDAR
