BEGIN:VCALENDAR
VERSION:2.0
PRODID:-//Focales
CALSCALE:GREGORIAN
METHOD:PUBLISH
X-WR-CALNAME:Focales
X-ORIGINAL-URL:https://focales.org/si-on-chantait-de-fabrice-muraca/
X-WR-CALDESC:SI ON CHANTAIT DE FABRICE MARUCA
BEGIN:VEVENT
DTSTART:20240831T213000
DTEND:20240831T230000
SUMMARY:SI ON CHANTAIT DE FABRICE MARUCA
DESCRIPTION:
LOCATION:Blanzat, parc Ballofy
END:VEVENT
END:VCALENDAR
