BEGIN:VCALENDAR
VERSION:2.0
PRODID:-//Focales
CALSCALE:GREGORIAN
METHOD:PUBLISH
X-WR-CALNAME:Focales
X-ORIGINAL-URL:https://focales.org/l-innocent-de-louis-garrel/
X-WR-CALDESC:L&rsquo;INNOCENT DE LOUIS GARREL
BEGIN:VEVENT
DTSTART:20240727T220000
DTEND:20240727T234500
SUMMARY:L&rsquo;INNOCENT DE LOUIS GARREL
DESCRIPTION:
LOCATION:Nohanent
END:VEVENT
END:VCALENDAR
