BEGIN:VCALENDAR
VERSION:2.0
PRODID:-//Focales
CALSCALE:GREGORIAN
METHOD:PUBLISH
X-WR-CALNAME:Focales
X-ORIGINAL-URL:https://focales.org/gravity-dalfonso-cuaron/
X-WR-CALDESC:GRAVITY D&rsquo;ALFONSO CUARON
BEGIN:VEVENT
DTSTART:20240717T220000
DTEND:20240717T233000
SUMMARY:GRAVITY D&rsquo;ALFONSO CUARON
DESCRIPTION:
LOCATION:Jardin Lecoq, Clermont-Ferrand
END:VEVENT
END:VCALENDAR
