BEGIN:VCALENDAR
VERSION:2.0
PRODID:-//Focales
CALSCALE:GREGORIAN
METHOD:PUBLISH
X-WR-CALNAME:Focales
X-ORIGINAL-URL:https://focales.org/mystere-de-denis-imbert/
X-WR-CALDESC:MYSTERE DE DENIS IMBERT
BEGIN:VEVENT
DTSTART:20240705T220000
DTEND:20240705T233000
SUMMARY:MYSTERE DE DENIS IMBERT
DESCRIPTION:
LOCATION:Maison de quartier de Croix de Neyrat, Clermont-Ferrand
END:VEVENT
END:VCALENDAR
