BEGIN:VCALENDAR
VERSION:2.0
PRODID:-//Focales
CALSCALE:GREGORIAN
METHOD:PUBLISH
X-WR-CALNAME:Focales
X-ORIGINAL-URL:https://focales.org/mystere-de-denis-imbert-2/
X-WR-CALDESC:MYSTERE DE DENIS IMBERT
BEGIN:VEVENT
DTSTART:20240731T220000
DTEND:20240731T233000
SUMMARY:MYSTERE DE DENIS IMBERT
DESCRIPTION:
LOCATION:Quartier des Molles-Cizolles, Thiers
END:VEVENT
END:VCALENDAR
