BEGIN:VCALENDAR
VERSION:2.0
PRODID:-//Focales
CALSCALE:GREGORIAN
METHOD:PUBLISH
X-WR-CALNAME:Focales
X-ORIGINAL-URL:https://focales.org/linnocent-de-louis-garrel/
X-WR-CALDESC:L&rsquo;INNOCENT DE LOUIS GARREL
BEGIN:VEVENT
DTSTART:20240719T220000
DTEND:20240719T234500
SUMMARY:L&rsquo;INNOCENT DE LOUIS GARREL
DESCRIPTION:
LOCATION:Maison de quartier de Champratel, Clermont-Ferrand
END:VEVENT
END:VCALENDAR
